BEGIN:VCALENDAR
VERSION:2.0
PRODID:-//The Villager Magazine - ECPv6.15.13.1//NONSGML v1.0//EN
CALSCALE:GREGORIAN
METHOD:PUBLISH
X-ORIGINAL-URL:https://villagermagazine.ca
X-WR-CALDESC:Events for The Villager Magazine
REFRESH-INTERVAL;VALUE=DURATION:PT1H
X-Robots-Tag:noindex
X-PUBLISHED-TTL:PT1H
BEGIN:VTIMEZONE
TZID:America/Toronto
BEGIN:DAYLIGHT
TZOFFSETFROM:-0500
TZOFFSETTO:-0400
TZNAME:EDT
DTSTART:20250309T070000
END:DAYLIGHT
BEGIN:STANDARD
TZOFFSETFROM:-0400
TZOFFSETTO:-0500
TZNAME:EST
DTSTART:20251102T060000
END:STANDARD
BEGIN:DAYLIGHT
TZOFFSETFROM:-0500
TZOFFSETTO:-0400
TZNAME:EDT
DTSTART:20260308T070000
END:DAYLIGHT
BEGIN:STANDARD
TZOFFSETFROM:-0400
TZOFFSETTO:-0500
TZNAME:EST
DTSTART:20261101T060000
END:STANDARD
BEGIN:DAYLIGHT
TZOFFSETFROM:-0500
TZOFFSETTO:-0400
TZNAME:EDT
DTSTART:20270314T070000
END:DAYLIGHT
BEGIN:STANDARD
TZOFFSETFROM:-0400
TZOFFSETTO:-0500
TZNAME:EST
DTSTART:20271107T060000
END:STANDARD
END:VTIMEZONE
BEGIN:VEVENT
DTSTART;TZID=America/Toronto:20260619T180000
DTEND;TZID=America/Toronto:20260619T210000
DTSTAMP:20260423T162828
CREATED:20260420T060438Z
LAST-MODIFIED:20260420T060438Z
UID:15660-1781892000-1781902800@villagermagazine.ca
SUMMARY:Live Entertainment – Rawley Resort
DESCRIPTION:Friday and Saturday’s 6:00 PM – 9:00 PM \nRawley Resort\, Spa & Marina\, 2900 Kellys Rd\, Severn\, ON L0K 1S0\, Canada
URL:https://villagermagazine.ca/event/live-entertainment-rawley-resort-47/
LOCATION:Rawley Resort\, Spa and Marina\, 2900 Kelly's Road\, Port Severn\, Ontario\, L0K 1S0\, Canada
CATEGORIES:Music And Performing Arts
ATTACH;FMTTYPE=image/jpeg:https://villagermagazine.ca/wp-content/uploads/2026/01/12240958-809285822528075-4442201079962032103-o-1_50_10975-22aQI6.jpg
END:VEVENT
BEGIN:VEVENT
DTSTART;TZID=America/Toronto:20260619T200000
DTEND;TZID=America/Toronto:20260619T230000
DTSTAMP:20260423T162828
CREATED:20260420T060438Z
LAST-MODIFIED:20260420T060438Z
UID:15661-1781899200-1781910000@villagermagazine.ca
SUMMARY:Sebastian Bach and Slaughter
DESCRIPTION:Sebastian Bach and Slaughter • Friday\, June 19\, 2026\nShowtime: 9pm • Doors Open: 8pm | Tickets starting at $45 plus applicable taxes and service fees. \nPre-Sale: Tuesday\, March 10 at 10am | Public Ticketmaster On-Sale: Friday\, March 13 at 10am \nTickets can be purchased at the Box Office or at Ticketmaster.ca\, the only official ticket retailer for Casino Rama Resort shows. \nClick Here to Buy Tickets \nMy Club Rewards members can use available comp to purchase tickets to this show by calling 705-329-3325 or visit Guest Services. \n\nOne night of hard rock hits with Sebastian Bach and Slaughter.\nSebastian Bach the original voice of Skidrow – “Youth Gone Wild\,” “Monkey Business\,” “I Remember You\,” “18 & Life”\nSlaughter – “Up All Night\,” “Fly to the Angels\,” “Spend My Life\,” “Real Love”
URL:https://villagermagazine.ca/event/sebastian-bach-and-slaughter/
LOCATION:Casino Rama Resort\, 5899 Rama Road\, Rama\, Ontario\, L3V 6H6\, Canada
CATEGORIES:Everyone,Music And Performing Arts
ATTACH;FMTTYPE=image/jpeg:https://villagermagazine.ca/wp-content/uploads/2026/04/CRR-SBS-750x750-1-zZpvud.jpg
END:VEVENT
BEGIN:VEVENT
DTSTART;TZID=America/Toronto:20260620T000000
DTEND;TZID=America/Toronto:20260620T235959
DTSTAMP:20260423T162828
CREATED:20260421T060414Z
LAST-MODIFIED:20260421T060414Z
UID:15666-1781913600-1781999999@villagermagazine.ca
SUMMARY:SEGBAY 1st Annual Pioneer Day
DESCRIPTION:The Southeast Georgian Bay Chamber of Commerce and Tourism is hosting the 1st Annual Pioneer Day\, taking place June 20\, 2026 at the Bressette Homestead in Port Severn. \nHistoric & Culture\nWoodworking Showcases\nVendors\nFood and Beverages\nCommunity Engagement \nContact Information:\ninfo@segbay.ca | 705-756-4863
URL:https://villagermagazine.ca/event/segbay-1st-annual-pioneer-day/
LOCATION:Ontario
ATTACH;FMTTYPE=image/jpeg:https://villagermagazine.ca/wp-content/uploads/2026/04/Pioneer-Day-June-20-2026-1-2wROlT.jpg
END:VEVENT
BEGIN:VEVENT
DTSTART;TZID=America/Toronto:20260620T100000
DTEND;TZID=America/Toronto:20260620T130000
DTSTAMP:20260423T162828
CREATED:20260421T060415Z
LAST-MODIFIED:20260421T060415Z
UID:15668-1781949600-1781960400@villagermagazine.ca
SUMMARY:IG Wealth Management Walk for Alzheimer’s
DESCRIPTION:This summer\, walk with purpose. The Walk for Alzheimer’s honours those impacted by dementia\, supports individuals and families on the journey\, and creates a compassionate\, welcoming community where everyone belongs. \nOur walk is different—because it’s personal. Participants travel along winding paths in three beautiful communities: Springwater Township\, City of Orillia and Collingwood\, coming together in solidarity for an incredible cause. \nThroughout the walk\, honour photos of our walker families put a face to dementia\, reminding us why we walk and who we walk for. Participants will have the option to submit an honour photo during registration. \nTogether\, we walk. Together\, we remember. Together\, we make a difference.
URL:https://villagermagazine.ca/event/ig-wealth-management-walk-for-alzheimers/
LOCATION:Tudhope Park\, 450 Atherley Rd\,\, Orillia\, Ontario\, L3V 1P2\, Canada
ATTACH;FMTTYPE=image/jpeg:https://villagermagazine.ca/wp-content/uploads/2026/04/Jaime-and-unicorn-8xyswJ.jpg
END:VEVENT
BEGIN:VEVENT
DTSTART;TZID=America/Toronto:20260620T100000
DTEND;TZID=America/Toronto:20260620T160000
DTSTAMP:20260423T162828
CREATED:20260421T060417Z
LAST-MODIFIED:20260421T060417Z
UID:15670-1781949600-1781971200@villagermagazine.ca
SUMMARY:Coldwater Studio Tour
DESCRIPTION:The Coldwater Studio Tour showcases the work of local and guest artisans & artists. We offer a diverse selection of work such as painting\, jewelry\, glass and metal work\, photography\, pottery\, fibre art\, and woodworking in studios\, workshops and historic buildings in the lovely agricultural surroundings of Coldwater and the adjoining shores of Georgian Bay.
URL:https://villagermagazine.ca/event/coldwater-studio-tour/
LOCATION:Coldwater Village\, Coldwater\, Ontario\, Canada
CATEGORIES:Art Studios & Galleries,Culture And Heritage,Everyone,Experiences
ATTACH;FMTTYPE=image/jpeg:https://villagermagazine.ca/wp-content/uploads/2026/04/Untitled-1-2-tS5dYJ.jpg
END:VEVENT
BEGIN:VEVENT
DTSTART;TZID=America/Toronto:20260620T180000
DTEND;TZID=America/Toronto:20260620T210000
DTSTAMP:20260423T162828
CREATED:20260421T060417Z
LAST-MODIFIED:20260421T060417Z
UID:15672-1781978400-1781989200@villagermagazine.ca
SUMMARY:Live Entertainment – Rawley Resort
DESCRIPTION:Friday and Saturday’s 6:00 PM – 9:00 PM \nRawley Resort\, Spa & Marina\, 2900 Kellys Rd\, Severn\, ON L0K 1S0\, Canada
URL:https://villagermagazine.ca/event/live-entertainment-rawley-resort-48/
LOCATION:Rawley Resort\, Spa and Marina\, 2900 Kelly's Road\, Port Severn\, Ontario\, L0K 1S0\, Canada
CATEGORIES:Music And Performing Arts
ATTACH;FMTTYPE=image/jpeg:https://villagermagazine.ca/wp-content/uploads/2026/01/12240958-809285822528075-4442201079962032103-o-1_50_10975-22aQI6.jpg
END:VEVENT
BEGIN:VEVENT
DTSTART;TZID=America/Toronto:20260620T200000
DTEND;TZID=America/Toronto:20260620T220000
DTSTAMP:20260423T162828
CREATED:20260421T060417Z
LAST-MODIFIED:20260421T060417Z
UID:15673-1781985600-1781992800@villagermagazine.ca
SUMMARY:Tony Hinchcliffe
DESCRIPTION:Tony Hinchcliffe • Saturday\, June 20\, 2026\nShowtime: 8pm • Doors Open: 7pm | Tickets: $60/$70/$80/$95/$110/$125 + Taxes & Service Charge \nPre-Sale: Wednesday\, October 8 at 10am | Public Ticketmaster On-Sale: Friday\, October 10 at 10am \nTickets can be purchased at the Box Office or at Ticketmaster.ca\, the only official ticket retailer for Casino Rama Resort shows. \nClick Here to Buy Tickets \nMy Club Rewards members can use available comp to purchase tickets to this show by calling 705-329-3325 or visit Guest Services. \nTony Hinchcliffe\, internationally touring comedian of nearly two decades\, one of the top roasters in the world\, and the mastermind behind Kill Tony\, has exploded in the podcasting space\, orchestrating the world’s top live comedy podcast since its inception in June 2013. Over the past decade\, his platform has attracted millions of listeners. His flagship show\, now permanently nestled at The Comedy Mothership in downtown Austin\, consistently sells out in minutes and draws a throng of budding comedians eager for their moment in the spotlight. Hinchcliffe himself is a formidable force in comedy\, known for his razor-sharp wit and his preeminent role in roast battles. His participation in Netflix’s Roast of Tom Brady was not just an appearance but a showcase of his mastery over the art of roasting\, where his words cut through the air with precision and humor\, cementing his status as a top-tier wordsmith in the industry. His career\, rich with experience and edged with audacity\, positions him as a uniquely authoritative figure in the realm of comedy and free speech.\n\nThis is a 19+ Event
URL:https://villagermagazine.ca/event/tony-hinchcliffe/
LOCATION:Casino Rama Resort\, 5899 Rama Road\, Rama\, Ontario\, L3V 6H6\, Canada
CATEGORIES:Adults,Culture And Heritage,Everyone,Experiences,Music And Performing Arts
ATTACH;FMTTYPE=image/jpeg:https://villagermagazine.ca/wp-content/uploads/2026/04/CRR-TonyHinchcliffe-750x750-1-ojb1WT.jpg
END:VEVENT
BEGIN:VEVENT
DTSTART;TZID=America/Toronto:20260621T100000
DTEND;TZID=America/Toronto:20260621T160000
DTSTAMP:20260423T162828
CREATED:20260422T060420Z
LAST-MODIFIED:20260422T060420Z
UID:15683-1782036000-1782057600@villagermagazine.ca
SUMMARY:Coldwater Studio Tour
DESCRIPTION:The Coldwater Studio Tour showcases the work of local and guest artisans & artists. We offer a diverse selection of work such as painting\, jewelry\, glass and metal work\, photography\, pottery\, fibre art\, and woodworking in studios\, workshops and historic buildings in the lovely agricultural surroundings of Coldwater and the adjoining shores of Georgian Bay.
URL:https://villagermagazine.ca/event/coldwater-studio-tour-2/
LOCATION:Coldwater Village\, Coldwater\, Ontario\, Canada
CATEGORIES:Art Studios & Galleries,Culture And Heritage,Everyone,Experiences
ATTACH;FMTTYPE=image/jpeg:https://villagermagazine.ca/wp-content/uploads/2026/04/Untitled-1-2-tS5dYJ.jpg
END:VEVENT
BEGIN:VEVENT
DTSTART;TZID=America/Toronto:20260621T150000
DTEND;TZID=America/Toronto:20260621T160000
DTSTAMP:20260423T162828
CREATED:20260422T060420Z
LAST-MODIFIED:20260422T060420Z
UID:15684-1782054000-1782057600@villagermagazine.ca
SUMMARY:Sauna with a Finn
DESCRIPTION:Be guided through an authentic Finnish sauna experience! \nYou are welcome to join our Sauna With a Finn on Sunday evenings. \nIt’s complimentary with your Nordic Spa Access! \nSunday’s\n3pm – 4pm \nCall (705–835–1500) or email (info@vettaspa.com) Guest Services to reserve your spot! \nOr Sign up at Guest Services when you arrive at Vettä \n 
URL:https://villagermagazine.ca/event/sauna-with-a-finn-49/
LOCATION:Vetta Nordic Spa\, 3210 Line 3 N\, Oro-Medonte\, Ontario\, L0L 2L0\, Canada
CATEGORIES:Adults,Culture And Heritage,Experiences
ATTACH;FMTTYPE=image/jpeg:https://villagermagazine.ca/wp-content/uploads/2025/07/IMG_2279-uETv50.jpg
END:VEVENT
END:VCALENDAR