BEGIN:VCALENDAR
VERSION:2.0
PRODID:-//The Villager Magazine - ECPv6.15.13.1//NONSGML v1.0//EN
CALSCALE:GREGORIAN
METHOD:PUBLISH
X-WR-CALNAME:The Villager Magazine
X-ORIGINAL-URL:https://villagermagazine.ca
X-WR-CALDESC:Events for The Villager Magazine
REFRESH-INTERVAL;VALUE=DURATION:PT1H
X-Robots-Tag:noindex
X-PUBLISHED-TTL:PT1H
BEGIN:VTIMEZONE
TZID:America/Toronto
BEGIN:DAYLIGHT
TZOFFSETFROM:-0500
TZOFFSETTO:-0400
TZNAME:EDT
DTSTART:20250309T070000
END:DAYLIGHT
BEGIN:STANDARD
TZOFFSETFROM:-0400
TZOFFSETTO:-0500
TZNAME:EST
DTSTART:20251102T060000
END:STANDARD
BEGIN:DAYLIGHT
TZOFFSETFROM:-0500
TZOFFSETTO:-0400
TZNAME:EDT
DTSTART:20260308T070000
END:DAYLIGHT
BEGIN:STANDARD
TZOFFSETFROM:-0400
TZOFFSETTO:-0500
TZNAME:EST
DTSTART:20261101T060000
END:STANDARD
BEGIN:DAYLIGHT
TZOFFSETFROM:-0500
TZOFFSETTO:-0400
TZNAME:EDT
DTSTART:20270314T070000
END:DAYLIGHT
BEGIN:STANDARD
TZOFFSETFROM:-0400
TZOFFSETTO:-0500
TZNAME:EST
DTSTART:20271107T060000
END:STANDARD
END:VTIMEZONE
BEGIN:VEVENT
DTSTART;TZID=America/Toronto:20260328T180000
DTEND;TZID=America/Toronto:20260328T210000
DTSTAMP:20260423T090923
CREATED:20260127T223434Z
LAST-MODIFIED:20260127T223434Z
UID:15072-1774720800-1774731600@villagermagazine.ca
SUMMARY:Live Entertainment – Rawley Resort
DESCRIPTION:Friday and Saturday’s 6:00 PM – 9:00 PM \nRawley Resort\, Spa & Marina\, 2900 Kellys Rd\, Severn\, ON L0K 1S0\, Canada
URL:https://villagermagazine.ca/event/live-entertainment-rawley-resort-24/
LOCATION:Rawley Resort\, Spa and Marina\, 2900 Kelly's Road\, Port Severn\, Ontario\, L0K 1S0\, Canada
CATEGORIES:Music And Performing Arts
ATTACH;FMTTYPE=image/jpeg:https://villagermagazine.ca/wp-content/uploads/2026/01/12240958-809285822528075-4442201079962032103-o-1_50_10975-22aQI6.jpg
END:VEVENT
BEGIN:VEVENT
DTSTART;TZID=America/Toronto:20260328T120000
DTEND;TZID=America/Toronto:20260328T150000
DTSTAMP:20260423T090923
CREATED:20260205T234935Z
LAST-MODIFIED:20260205T234935Z
UID:15141-1774699200-1774710000@villagermagazine.ca
SUMMARY:West Ridge Trailside Easter Family Photo Event
DESCRIPTION:Complimentary professional family photos\, and Easter Treat for the kids\, colouring pages\, and you may even catch a glimpse of the Easter Bunny hopping through.\nHosted by West Ridge Trailside community team and is open to all residents of West ridge trailside and residents of Orillia and surrounding areas.
URL:https://villagermagazine.ca/event/west-ridge-trailside-easter-family-photo-event/
LOCATION:fairfield by marriott inn and Suites\, orillia\, 8 Mulcahy Ct\, Orillia\, L3V 8N4
ATTACH;FMTTYPE=image/jpeg:https://villagermagazine.ca/wp-content/uploads/2026/02/Trailside-Easter-Event-3-HcxbG7.jpg
END:VEVENT
BEGIN:VEVENT
DTSTART;TZID=America/Toronto:20260328T100000
DTEND;TZID=America/Toronto:20260328T160000
DTSTAMP:20260423T090923
CREATED:20260303T014828Z
LAST-MODIFIED:20260303T014828Z
UID:15313-1774692000-1774713600@villagermagazine.ca
SUMMARY:Celebrate Spring at Chappell Farms Spring (Easter) Festival!
DESCRIPTION:Hank Here! I’m the highland cow at Chappell Farms (the official mascot you could say)\nCome and meet Farmer Bruce and our friendly farm family:\nOreo our Belted Galloway cow\nSalsa & Taco our mini donkeys\nWiggly & Piggly our pigs\nTom the turkey\nGoats with adorable baby kids\nSheep with sweet baby lambs\nPlus chickens\, bunnies\, ducks\, and chicks! \nFestival Highlights Include: \n\nEaster Egg (Candy) Hunt every hour – bring your own basket or pail\nWagon rides around the farm\nLearn about the life of a maple tree and how maple syrup is made with maple taffy on the snow demonstrations\nBaby animals and hands-on farm fun\nDelicious Food Available for Purchase:\nFluffy pancakes & Maple Syrup\nFresh donuts\nFrench fries\nHot dogs\nDelicious poutine\nWear your creative Easter bonnet\, rubber boots\, and bring the whole family for a memorable spring adventure!\n\nTickets available at the gate\nPlenty of free parking \nWe can’t wait to welcome you to the farm for a day filled with fresh air\, family fun\, and springtime smiles! \nSending you Highland Cow Snuggles \nJoin us March 28\, 29 & April 3\, 4\, 5\, 6 from 10:00 a.m. – 4:00 p.m. for a fun-filled family day on the farm!
URL:https://villagermagazine.ca/event/celebrate-spring-at-chappell-farms-spring-easter-festival/
LOCATION:Chappell Farms\, 617 Penetanguishene Rd.\,\, Oro-Medonte\, Ontario\, L4M 4Y8\, Canada
CATEGORIES:Everyone,Family,Festivals Fairs And Events,Holiday And Seasonal
ATTACH;FMTTYPE=image/jpeg:https://villagermagazine.ca/wp-content/uploads/2026/03/Spring-Festival-Chappell-Farms-8QQBlF.jpg
ORGANIZER;CN="Chappell Farms":MAILTO:info@chappellfarms.ca
END:VEVENT
BEGIN:VEVENT
DTSTART;TZID=America/Toronto:20260328T000000
DTEND;TZID=America/Toronto:20260329T235959
DTSTAMP:20260423T090923
CREATED:20260224T010337Z
LAST-MODIFIED:20260224T010337Z
UID:15245-1774656000-1774828799@villagermagazine.ca
SUMMARY:Sweetwater Harvest Festival
DESCRIPTION:From sweet samples\, to hands-on fun\, this two-day festival brings you on a journey from maple tree to table\, and everywhere in between. \n\nThe Sweetwater Harvest Festival is a 2-day festival located in the Heart of Georgian Bay\, celebrating the long standing tradition of harvesting and processing maple sap. Attendees will be treated to a full day’s worth of memorable mapley experiences and sweet treats as they journey across two unique sites in both the Wye Marsh Wildlife Centre and neighbouring Sainte Marie Among the Hurons. \nBeginning at Sainte Marie Among the Hurons\, take home a local treasure at the Artisan Market\, relive history through story-telling and reenactments\, and experience sap (or ‘sweetwater’) as it was used here throughout history. \nAt the Wye Marsh\, immerse yourself in nature and wildlife with a tour of the sugar bush. See sap become syrup in the sugar shack\, get hands-on through a range of family-fun activities\, and enjoy talented live musicians and entertainers. \nCap off your experience by satisfying your sweet tooth at any one of our vendors offering maple-inspired food.
URL:https://villagermagazine.ca/event/sweetwater-harvest-festival-4/
LOCATION:Wye Marsh Wildlife Centre\, 16160 Highway 12 East\, Midland\, Ontario\, L4R 4K6\, Canada
CATEGORIES:Culture And Heritage,Everyone,Tap Into Maple
ATTACH;FMTTYPE=image/jpeg:https://villagermagazine.ca/wp-content/uploads/2026/02/Best-of-Sweetwater-jmIJPA.jpg
END:VEVENT
BEGIN:VEVENT
DTSTART;TZID=America/Toronto:20260327T180000
DTEND;TZID=America/Toronto:20260327T210000
DTSTAMP:20260423T090923
CREATED:20260126T223430Z
LAST-MODIFIED:20260126T223430Z
UID:15069-1774634400-1774645200@villagermagazine.ca
SUMMARY:Live Entertainment – Rawley Resort
DESCRIPTION:Friday and Saturday’s 6:00 PM – 9:00 PM \nRawley Resort\, Spa & Marina\, 2900 Kellys Rd\, Severn\, ON L0K 1S0\, Canada
URL:https://villagermagazine.ca/event/live-entertainment-rawley-resort-23/
LOCATION:Rawley Resort\, Spa and Marina\, 2900 Kelly's Road\, Port Severn\, Ontario\, L0K 1S0\, Canada
CATEGORIES:Music And Performing Arts
ATTACH;FMTTYPE=image/jpeg:https://villagermagazine.ca/wp-content/uploads/2026/01/12240958-809285822528075-4442201079962032103-o-1_50_10975-22aQI6.jpg
END:VEVENT
END:VCALENDAR