BEGIN:VCALENDAR
VERSION:2.0
PRODID:-//The Villager Magazine - ECPv6.15.13.1//NONSGML v1.0//EN
CALSCALE:GREGORIAN
METHOD:PUBLISH
X-WR-CALNAME:The Villager Magazine
X-ORIGINAL-URL:https://villagermagazine.ca
X-WR-CALDESC:Events for The Villager Magazine
REFRESH-INTERVAL;VALUE=DURATION:PT1H
X-Robots-Tag:noindex
X-PUBLISHED-TTL:PT1H
BEGIN:VTIMEZONE
TZID:America/Toronto
BEGIN:DAYLIGHT
TZOFFSETFROM:-0500
TZOFFSETTO:-0400
TZNAME:EDT
DTSTART:20250309T070000
END:DAYLIGHT
BEGIN:STANDARD
TZOFFSETFROM:-0400
TZOFFSETTO:-0500
TZNAME:EST
DTSTART:20251102T060000
END:STANDARD
BEGIN:DAYLIGHT
TZOFFSETFROM:-0500
TZOFFSETTO:-0400
TZNAME:EDT
DTSTART:20260308T070000
END:DAYLIGHT
BEGIN:STANDARD
TZOFFSETFROM:-0400
TZOFFSETTO:-0500
TZNAME:EST
DTSTART:20261101T060000
END:STANDARD
BEGIN:DAYLIGHT
TZOFFSETFROM:-0500
TZOFFSETTO:-0400
TZNAME:EDT
DTSTART:20270314T070000
END:DAYLIGHT
BEGIN:STANDARD
TZOFFSETFROM:-0400
TZOFFSETTO:-0500
TZNAME:EST
DTSTART:20271107T060000
END:STANDARD
END:VTIMEZONE
BEGIN:VEVENT
DTSTART;TZID=America/Toronto:20260509T000000
DTEND;TZID=America/Toronto:20260509T235959
DTSTAMP:20260422T120821
CREATED:20260422T060317Z
LAST-MODIFIED:20260422T060317Z
UID:15679-1778284800-1778371199@villagermagazine.ca
SUMMARY:Monster Maddness
DESCRIPTION:Feel the roar of the monster trucks as the Monster Madness Tour stops in Orillia Ontario at ODAS PARK with stars from the ‘FMX World Tour’ and more! This is an action-packed afternoon fans won’t want to miss!\n\nMONSTER MADNESS TOUR: Rat Nasty Monster Madness Champion returns with the biggest Monster Trucks in the world. Including Canada’s #1 female Monster Truck SABOTAGE. Monster Madness will have you on your feet as you watch the 10\,000 pounds of MONSTER TRUCKS soar through the air! The competition will include tricks like wheelies\, racing\, monster truck freestyle and more! \nFMX WORLD TOUR will leave fans and families amazed as death defying stunts only the brave would attempt are performed\, inside the arena. FMX World Tour is the perfect blend of athletic ability\, extreme stunt competitions and tricks and flips! FMX World Tour stars will be performing such tricks as\, captain morgan\, kiss of death\, cliff hangers\, in addition to the famous BACKFLIP! \nPOWER WHEELS DEMOLITION DERBY – Watch as these young up and coming demolition drivers show off their driving skills during the Monster Madness Power Wheels Demolition Derby. \nVIP TICKETS: Get access to the pre-show VIP Pity Party\, receive a souvenir VIP lanyard\, plus get early entry to choose your seats first! \nChildren 2 and UNDER ON LAP ARE FREE\nChildren 12 AND OLDER = ADULT
URL:https://villagermagazine.ca/event/monster-maddness/
LOCATION:ODAS Park\, 4500 Fairgrounds Rd\, Orillia\, Ontario\, L3V 6H2\, Canada
CATEGORIES:Everyone,Experiences
ATTACH;FMTTYPE=image/png:https://villagermagazine.ca/wp-content/uploads/2026/04/1677388480-Plgx1f.png
END:VEVENT
END:VCALENDAR